BEGIN:VCALENDAR
VERSION:2.0
PRODID:-//Kalamazoo Section of the American Chemical Society - ECPv6.15.20//NONSGML v1.0//EN
CALSCALE:GREGORIAN
METHOD:PUBLISH
X-ORIGINAL-URL:https://kalamazooacs.org
X-WR-CALDESC:Events for Kalamazoo Section of the American Chemical Society
REFRESH-INTERVAL;VALUE=DURATION:PT1H
X-Robots-Tag:noindex
X-PUBLISHED-TTL:PT1H
BEGIN:VTIMEZONE
TZID:UTC
BEGIN:STANDARD
TZOFFSETFROM:+0000
TZOFFSETTO:+0000
TZNAME:UTC
DTSTART:20210101T000000
END:STANDARD
END:VTIMEZONE
BEGIN:VEVENT
DTSTART;TZID=UTC:20230813T080000
DTEND;TZID=UTC:20230817T200000
DTSTAMP:20260424T163231
CREATED:20230509T215722Z
LAST-MODIFIED:20230509T215722Z
UID:21409-1691913600-1692302400@kalamazooacs.org
SUMMARY:Fall ACS National Meeting - San Francisco
DESCRIPTION:Theme: Harnessing the POWER of Data
URL:https://kalamazooacs.org/events/fall-acs-national-meeting-san-francisco/
END:VEVENT
BEGIN:VEVENT
DTSTART;TZID=UTC:20230624T160000
DTEND;TZID=UTC:20230624T200000
DTSTAMP:20260424T163231
CREATED:20230509T214841Z
LAST-MODIFIED:20230509T215215Z
UID:21403-1687622400-1687636800@kalamazooacs.org
SUMMARY:KACS Members Meeting
DESCRIPTION:Volunteers Needed!!\n\n\n\nTo ensure an accurate count of attendees for food and supplies you must register at Eventbrite by June 21: https://www.eventbrite.com/e/kacs-spring-2023-members-meeting-tickets-620039443667. \n\n\n\nAgenda\n\n\n\n4:00 p.m.         Welcome and picnic5:00 p.m.         Meeting call to order and chair remarks5:05 p.m.         Introduction of executive committee and chairs5:20 p.m.         Key activities accomplished and planned for in 20235:30 p.m.         Benefits of Joining ACS/KACS5:40 p.m.         Members Survey and Feedback6:00 p.m.         Close of meeting
URL:https://kalamazooacs.org/events/kacs-members-meeting/
LOCATION:Ostemo Township Park\, 7275 W Main St\, Kalamazoo\, Michigan\, 49009\, United States
END:VEVENT
BEGIN:VEVENT
DTSTART;TZID=UTC:20230620T000000
DTEND;TZID=UTC:20230623T235959
DTSTAMP:20260424T163231
CREATED:20230614T162010Z
LAST-MODIFIED:20230614T162010Z
UID:21433-1687219200-1687564799@kalamazooacs.org
SUMMARY:Central Regional Meeting - Detroit\, MI
DESCRIPTION:The Central Regional Meeting for 2023 will be hosted by the Detroit Local Section of the ACS and will focus on the chemistry being pursued within the region. In addition to symposia and poster sessions concerning organic chemistry\, inorganic chemistry\, analytical chemistry\, physical chemistry\, biochemistry\, and chemical education\, some of our other sessions are the circular economy for plastics\, sustainability in automobiles\, cannabis in undergraduate education\, expanding green chemistry in the undergraduate curriculum and research experiences\, f-block extravaganza\, sustainable and environmentally beneficial polymers\, DEI initiatives including social media usage in Industry and Academia\, and pollution of the Great Lakes watershed: metals\, PFAS\, PAH\, and other chemical hazards.
URL:https://kalamazooacs.org/events/central-regional-meeting-detroit-mi/
END:VEVENT
BEGIN:VEVENT
DTSTART;TZID=UTC:20230619T190000
DTEND;TZID=UTC:20230619T203000
DTSTAMP:20260424T163231
CREATED:20230509T214347Z
LAST-MODIFIED:20230509T214347Z
UID:21397-1687201200-1687206600@kalamazooacs.org
SUMMARY:KACS EC Meeting
DESCRIPTION:contact chair@kalamazooacs.org for information and an invitation
URL:https://kalamazooacs.org/events/kacs-ec-meeting-16/
END:VEVENT
BEGIN:VEVENT
DTSTART;TZID=UTC:20230523T190000
DTEND;TZID=UTC:20230523T200000
DTSTAMP:20260424T163231
CREATED:20230317T181347Z
LAST-MODIFIED:20230509T214223Z
UID:21356-1684868400-1684872000@kalamazooacs.org
SUMMARY:2023 Tourtellotte Lecture at Kalamazoo College
DESCRIPTION:Title: High-throughput ’Omics to Advance Equity in Alzheimer’s Disease.” \n\n\n\nThe 2023 Tourtellotte Lecture will be presented by Prof. Renã A. S. Robinson\, Vanderbilt University in The Dalton Theater at Kalamazoo College. Dr. Robinson’s research focuses on Alzheimer’s disease and proteomics.
URL:https://kalamazooacs.org/events/2023-tourtellotte-lecture-at-kalamazoo-college/
END:VEVENT
BEGIN:VEVENT
DTSTART;TZID=UTC:20230518T183000
DTEND;TZID=UTC:20230518T203000
DTSTAMP:20260424T163231
CREATED:20230509T214042Z
LAST-MODIFIED:20230509T214042Z
UID:21394-1684434600-1684441800@kalamazooacs.org
SUMMARY:Family Science Night
DESCRIPTION:Dow Science Building\, Kalamazoo College \n\n\n\nYou’re invited to a Family Science Night at the Dow Science Building at Kalamazoo College (1200 Academy St. Kalamazoo\, MI) on Thursday\, May 18\, 2023 from 6:30-8:30 p.m. We are so excited to explore science with K-12 students and their families. Join us for hands-on science booths designed and run by our science undergraduate students at Kalamazoo College. This year’s theme will focus on science in our daily lives\, especially in our environment during the spring and summer seasons! Admission and parking are free. Contact Dr. Josie Mitchell (Josephine.Mitchell@kzoo.edu) if you have questions.
URL:https://kalamazooacs.org/events/family-science-night/
END:VEVENT
BEGIN:VEVENT
DTSTART;TZID=UTC:20230515T190000
DTEND;TZID=UTC:20230515T203000
DTSTAMP:20260424T163231
CREATED:20230317T181151Z
LAST-MODIFIED:20230317T181151Z
UID:21354-1684177200-1684182600@kalamazooacs.org
SUMMARY:KACS EC Meeting
DESCRIPTION:contact chair@kalamazooacs.org for information and an invitation
URL:https://kalamazooacs.org/events/kacs-ec-meeting-15/
END:VEVENT
BEGIN:VEVENT
DTSTART;TZID=UTC:20230508T190000
DTEND;TZID=UTC:20230508T203000
DTSTAMP:20260424T163231
CREATED:20230317T180845Z
LAST-MODIFIED:20230317T181014Z
UID:21352-1683572400-1683577800@kalamazooacs.org
SUMMARY:KACS Awards Gathering via Zoom
DESCRIPTION:Gathering to recognize: \n\n\n\n -Long-term (50-year/60-year) ACS members in our section – Outstanding College Chemistry graduating seniors from K College and WMU – Outstanding High School Chemistry Students nominated by their Chemistry teachers – 2022 Project SEED participants
URL:https://kalamazooacs.org/events/kacs-awards-gathering-via-zoom/
END:VEVENT
BEGIN:VEVENT
DTSTART;TZID=UTC:20230417T190000
DTEND;TZID=UTC:20230417T203000
DTSTAMP:20260424T163231
CREATED:20230214T183825Z
LAST-MODIFIED:20230214T183825Z
UID:21337-1681758000-1681763400@kalamazooacs.org
SUMMARY:KACS EC Meeting
DESCRIPTION:contact chair@kalamazooacs.org for information and an invitation
URL:https://kalamazooacs.org/events/kacs-ec-meeting-14/
END:VEVENT
BEGIN:VEVENT
DTSTART;TZID=UTC:20230416T080000
DTEND;TZID=UTC:20230422T170000
DTSTAMP:20260424T163231
CREATED:20230317T180454Z
LAST-MODIFIED:20230317T180454Z
UID:21350-1681632000-1682182800@kalamazooacs.org
SUMMARY:Chemists Celebrate Earth Week (CCEW)
DESCRIPTION:Theme: The Curious Chemistry of Amazing Algae
URL:https://kalamazooacs.org/events/chemists-celebrate-earth-week-ccew-2/
END:VEVENT
BEGIN:VEVENT
DTSTART;TZID=UTC:20230326T000000
DTEND;TZID=UTC:20230330T230000
DTSTAMP:20260424T163231
CREATED:20230117T075335Z
LAST-MODIFIED:20230117T075338Z
UID:21312-1679788800-1680217200@kalamazooacs.org
SUMMARY:Spring National ACS Meeting (hybrid)
DESCRIPTION:Indianapolis\, INTheme: “Crossroads of Chemistry”
URL:https://kalamazooacs.org/events/spring-national-acs-meeting-hybrid/
END:VEVENT
BEGIN:VEVENT
DTSTART;TZID=UTC:20230320T190000
DTEND;TZID=UTC:20230320T203000
DTSTAMP:20260424T163231
CREATED:20230117T075112Z
LAST-MODIFIED:20230117T075115Z
UID:21310-1679338800-1679344200@kalamazooacs.org
SUMMARY:KACS EC Meeting
DESCRIPTION:contact chair@kalamazooacs.org for information and an invitation
URL:https://kalamazooacs.org/events/kacs-ec-meeting-13/
END:VEVENT
BEGIN:VEVENT
DTSTART;TZID=UTC:20230222T144500
DTEND;TZID=UTC:20230222T161000
DTSTAMP:20260424T163231
CREATED:20230214T183611Z
LAST-MODIFIED:20230214T183611Z
UID:21335-1677077100-1677082200@kalamazooacs.org
SUMMARY:Hybrid lecture by Dr. Judith Giordan\, 2023 ACS President
DESCRIPTION:Wednesday\, February 22\, from 2:45 to 4:10 p.m. EST.  \n\n\n\nThere will also be a room provided at Kalamazoo College where students and KACS members may enjoy the ZOOM presentation in a more social atmosphere. The live viewing will be in Room 229 of the Dow Science Building. Dr. Giordan’s talk is entitled\, “ACS and YOU! The Power of Connections for Personal and Professional Growth!” \n\n\n\nFor those interested in attending by ZOOM please contact Ed Thomas at edwardwthomas@gmail.com  \n\n\n\nFor those interested in participating at the Kalamazoo College location please contact Dr. Blakely Tresca at Blakely.Tresca@kzoo.edu.
URL:https://kalamazooacs.org/events/hybrid-lecture-by-dr-judith-giordan-2023-acs-president/
END:VEVENT
BEGIN:VEVENT
DTSTART;TZID=UTC:20230220T190000
DTEND;TZID=UTC:20230220T203000
DTSTAMP:20260424T163231
CREATED:20230117T075002Z
LAST-MODIFIED:20230117T075005Z
UID:21308-1676919600-1676925000@kalamazooacs.org
SUMMARY:KACS EC Meeting
DESCRIPTION:contact chair@kalamazooacs.org for information and an invitation
URL:https://kalamazooacs.org/events/kacs-ec-meeting-12/
END:VEVENT
BEGIN:VEVENT
DTSTART;TZID=UTC:20230116T190000
DTEND;TZID=UTC:20230116T203000
DTSTAMP:20260424T163231
CREATED:20230117T074634Z
LAST-MODIFIED:20230117T074637Z
UID:21306-1673895600-1673901000@kalamazooacs.org
SUMMARY:KACS EC Meeting
DESCRIPTION:contact chair@kalamazooacs.org for information and an invitation
URL:https://kalamazooacs.org/events/kacs-ec-meeting-11/
END:VEVENT
BEGIN:VEVENT
DTSTART;TZID=UTC:20221219T190000
DTEND;TZID=UTC:20221219T213000
DTSTAMP:20260424T163231
CREATED:20220920T035806Z
LAST-MODIFIED:20220920T035952Z
UID:21215-1671476400-1671485400@kalamazooacs.org
SUMMARY:KACS EC Meeting
DESCRIPTION:contact chair@kalamazooacs.org for information and an invitation
URL:https://kalamazooacs.org/events/kacs-ec-meeting-10/
END:VEVENT
BEGIN:VEVENT
DTSTART;TZID=UTC:20221129T000000
DTEND;TZID=UTC:20221129T235959
DTSTAMP:20260424T163231
CREATED:20221011T002926Z
LAST-MODIFIED:20221104T231855Z
UID:21236-1669680000-1669766399@kalamazooacs.org
SUMMARY:Sustainable Science – Recycle a Poster
DESCRIPTION:Our keynote speaker will be Mark E. Jones\, Ph.D. Mark retired in March 2021 as Executive External Strategy and Communications Fellow for Dow Chemical\, having spent a decade on the CTO’s staff. As an active contributor to the American Chemical Society he has served as chair of the Midland Local Section\, writes for Industry Matters\, hosts webinars and currently serves on the Committee on Public Relations and Communications and the National Historic Chemical Landmarks subcommittee. \n\n\n\nAll scientists interested in presenting a poster\, please send your abstracts to symposium@kalamazooacs.org along with the poster title\, the author list with the presenter underlined and an asterisk (*) for the lead PI\, and the institution information by Sunday\, November 27. Undergraduate and graduate students are encouraged to participate. Newly-prepared or “recycled” posters are welcome. Student presenters who submit their abstract (100-200 words) by Sunday\, Nov. 27\, can win a $50 cash prize (3 will be awarded)! Current ACS members\, poster presenters and Zoetis employees are eligible for two complimentary drink tickets (alcoholic beverages for 21 years and older).  \n\n\n\n \n\n\n\nFor more information please feel free to email symposium@kalamazooacs.org.
URL:https://kalamazooacs.org/events/sustainable-science-recycle-a-poster/
END:VEVENT
BEGIN:VEVENT
DTSTART;TZID=UTC:20221121T190000
DTEND;TZID=UTC:20221121T203000
DTSTAMP:20260424T163231
CREATED:20220920T035547Z
LAST-MODIFIED:20220920T035549Z
UID:21213-1669057200-1669062600@kalamazooacs.org
SUMMARY:KACS EC Meeting
DESCRIPTION:contact chair@kalamazooacs.org for information and an invitation
URL:https://kalamazooacs.org/events/kacs-ec-meeting-9/
END:VEVENT
BEGIN:VEVENT
DTSTART;TZID=UTC:20221017T190000
DTEND;TZID=UTC:20221017T203000
DTSTAMP:20260424T163231
CREATED:20220822T180349Z
LAST-MODIFIED:20220822T180513Z
UID:21155-1666033200-1666038600@kalamazooacs.org
SUMMARY:KACS EC Meeting
DESCRIPTION:contact chair@kalamazooacs.org for information and an invitation
URL:https://kalamazooacs.org/events/kacs-ec-meeting-8/
END:VEVENT
BEGIN:VEVENT
DTSTART;TZID=UTC:20221017T000000
DTEND;TZID=UTC:20221017T235959
DTSTAMP:20260424T163231
CREATED:20221011T002746Z
LAST-MODIFIED:20221011T002746Z
UID:21234-1665964800-1666051199@kalamazooacs.org
SUMMARY:Abstract Submission Deadline for the Spring 2023 National ACS meeting
DESCRIPTION:Deadline to submit an abstract for the Spring 2023 National ACS meeting in Indianapolis\, IN\, March 26-30; the theme is “Crossroads of Chemistry\,” and it will be in hybrid format (visit acs.org/meetings for further details).
URL:https://kalamazooacs.org/events/abstract-submission-deadline-for-the-spring-2023-national-acs-meeting/
END:VEVENT
BEGIN:VEVENT
DTSTART;TZID=UTC:20221015T120000
DTEND;TZID=UTC:20221015T160000
DTSTAMP:20260424T163231
CREATED:20220822T180155Z
LAST-MODIFIED:20221011T002528Z
UID:21153-1665835200-1665849600@kalamazooacs.org
SUMMARY:Chemistry Day at the Kalamazoo Valley Museum
DESCRIPTION:The Kalamazoo Valley Museum and the Kalamazoo Section of the American Chemical Society invite you to attend the event “Fabulous Fibers: The Chemistry of Fabrics!”\, which is the 2022 theme of our National Chemistry Week outreach. Visitors of all ages will enjoy chemistry experiments related to fibers\, as well as other favorites. After a two-year hiatus\, the 36th annual event will take place in person on Saturday\, October 15\, from noon to 4 p.m. at the museum; it is FREE to attendees. \n\n\n\nDiscover how chemistry can tell us more about fibers using fire in Great Balls of Fire! Use the sun to create a chemical print on fabric. Learn about ice dyeing and use synthetic dyes to tie dye a bandana. Absorbent polymers are used in diapers to help absorb moisture and also make for some fun artificial snow. See how chemicals combine to create a string of nylon. Observe how milk\, soured by vinegar\, can be used to create buttons and how that same milk can show us how stains can be removed. \n\n\n\nMany of past favorites are back! Make your own slime\, explore acids and bases\, clean pennies with ketchup\, learn about PVT effects using colored water\, try paper chromatography and “magic” sand. Chemiluminescence and elephant toothpaste demonstrations can be seen at 12:30\, 1:30\, 2:30\, and 3:30 p.m. in the theater. Get your free tickets at the front desk. This spectacular science show is filled with glow-in-the-dark lights and “dancing” milk! \n\n\n\nWe look forward to seeing you at the Kalamazoo Valley Museum (230 N. Rose Street) on Saturday\, October 15\, from 12-4 p.m.!
URL:https://kalamazooacs.org/events/chemistry-day-at-the-kalamazoo-valley-museum/
LOCATION:kalamazoo valley museum\, 230 N. Rose Street\, Kalamazoo
END:VEVENT
BEGIN:VEVENT
DTSTART;TZID=UTC:20221013T180000
DTEND;TZID=UTC:20221013T200000
DTSTAMP:20260424T163231
CREATED:20220920T034831Z
LAST-MODIFIED:20221011T002201Z
UID:21211-1665684000-1665691200@kalamazooacs.org
SUMMARY:Seminar: James Bour (Wayne State University)
DESCRIPTION:Dr. James Bour\, chemistry professor at Wayne State University\, will deliver a seminar in person at Kalamazoo College on Thursday\, October 13\, at 6 p.m. in Dewing Hall\, room 103. This seminar is jointly sponsored by KACS and the Kalamazoo College Department of Chemistry and Biochemistry. Questions may be directed to edwardwthomas@gmail.com or Blakely.Tresca@kzoo.edu. \n\n\n\nTitle: Understanding Relationships Between Defectivity and Microporosity in Organic Polymers \n\n\n\nAbstract: This presentation describes efforts to understand structural features critical for high surface areas in porous organic polymers. Using a network disassembly approach\, we show that porosity is highly sensitive to dangling end defects. The implications of these insights on the design of improved synthetic approaches for high surface areal materials will be discussed. \n\n\n\nDr. Bour’s Biographical Information: After graduating from Hackett High School in Kalamazoo\, Dr. Bour earned a B.S. from Hope College in 2013 and Ph.D. in chemistry from the University of Michigan in 2018. As a graduate student he worked on the organometallic chemistry of high-valent nickel under Professor Melanie Sanford. He then moved to MIT as an Arnold O. Beckman Postdoctoral Fellow to study catalytic applications of metal-organic frameworks in the lab of Professor Mircea Dinca. He began his independent career in 2020 at Wayne State University where his team studies the synthesis and applications of porous organic materials. \n\n\n\nAll are welcome! Starting at 5:10 p.m. there will be a reception in the Dewing Lobby featuring light sandwiches and soft drinks; to ensure there is enough food\, if you plan to attend the reception please contact edwardwthomas@gmail.com.
URL:https://kalamazooacs.org/events/seminar-james-bour-wayne-state-university/
END:VEVENT
BEGIN:VEVENT
DTSTART;TZID=UTC:20220927T180000
DTEND;TZID=UTC:20220927T193000
DTSTAMP:20260424T163231
CREATED:20220615T221623Z
LAST-MODIFIED:20220615T221623Z
UID:21115-1664301600-1664307000@kalamazooacs.org
SUMMARY:Fall Speed-networking event
DESCRIPTION:This will be a ZOOM event\, register at this link.
URL:https://kalamazooacs.org/events/fall-speed-networking-event/
END:VEVENT
BEGIN:VEVENT
DTSTART;TZID=UTC:20220919T190000
DTEND;TZID=UTC:20220919T203000
DTSTAMP:20260424T163231
CREATED:20220615T221827Z
LAST-MODIFIED:20220615T221827Z
UID:21117-1663614000-1663619400@kalamazooacs.org
SUMMARY:KACS EC Meeting
DESCRIPTION:contact chair@kalamazooacs.org for information and an invitation
URL:https://kalamazooacs.org/events/kacs-ec-meeting-7/
END:VEVENT
BEGIN:VEVENT
DTSTART;TZID=UTC:20220826T120000
DTEND;TZID=UTC:20220826T143000
DTSTAMP:20260424T163231
CREATED:20220822T175848Z
LAST-MODIFIED:20220824T001216Z
UID:21148-1661515200-1661524200@kalamazooacs.org
SUMMARY:SEED student poster presentation
DESCRIPTION:Kalamazoo College Dalton Fine Arts lobby (see article on page 4 of August newsletter)
URL:https://kalamazooacs.org/events/21148/
END:VEVENT
BEGIN:VEVENT
DTSTART;TZID=UTC:20220821T080000
DTEND;TZID=UTC:20220824T170000
DTSTAMP:20260424T163231
CREATED:20220510T170455Z
LAST-MODIFIED:20220510T170458Z
UID:21077-1661068800-1661360400@kalamazooacs.org
SUMMARY:Fall 2022 ACS National Meeting (hybrid) Chicago\, IL
DESCRIPTION:https://www.acs.org/content/acs/en/meetings/acs-meetings/abstract-submission/call-for-abstracts.html
URL:https://kalamazooacs.org/events/fall-2022-acs-national-meeting-hybrid-chicago-il/
END:VEVENT
BEGIN:VEVENT
DTSTART;TZID=UTC:20220815T190000
DTEND;TZID=UTC:20220815T203000
DTSTAMP:20260424T163231
CREATED:20220510T164847Z
LAST-MODIFIED:20220615T221941Z
UID:21073-1660590000-1660595400@kalamazooacs.org
SUMMARY:KACS EC Meeting
DESCRIPTION:contact chair@kalamazooacs.org for information and an invitation
URL:https://kalamazooacs.org/events/kacs-ec-meeting-6/
END:VEVENT
BEGIN:VEVENT
DTSTART;TZID=UTC:20220731T080000
DTEND;TZID=UTC:20220804T170000
DTSTAMP:20260424T163231
CREATED:20220615T220934Z
LAST-MODIFIED:20220615T220934Z
UID:21112-1659254400-1659632400@kalamazooacs.org
SUMMARY:Biennial Conference on Chemical Education (BCCE 2022)
DESCRIPTION:The ACS Division of Chemical Education’s Biennial Conference on Chemical Education (BCCE 2022) will be held at Purdue University\, West Lafayette\, IN. Visit the conference website for complete conference details\, or email bcce2022@gmail.com with questions.
URL:https://kalamazooacs.org/events/biennial-conference-on-chemical-education-bcce-2022/
END:VEVENT
BEGIN:VEVENT
DTSTART;TZID=UTC:20220620T190000
DTEND;TZID=UTC:20220620T203000
DTSTAMP:20260424T163231
CREATED:20220418T190635Z
LAST-MODIFIED:20220510T165112Z
UID:21025-1655751600-1655757000@kalamazooacs.org
SUMMARY:KACS EC Meeting
DESCRIPTION:contact chair@kalamazooacs.org for information and an invitation
URL:https://kalamazooacs.org/events/kacs-ec-meeting-5/
END:VEVENT
BEGIN:VEVENT
DTSTART;TZID=UTC:20220607T080000
DTEND;TZID=UTC:20220607T170000
DTSTAMP:20260424T163231
CREATED:20220418T191628Z
LAST-MODIFIED:20220418T191635Z
UID:21028-1654588800-1654621200@kalamazooacs.org
SUMMARY:Central Regional Meeting of the American Chemical Society
DESCRIPTION:The Huron Valley Local Section is hosting the Central Regional Meeting of the American Chemical Society June 7-10\, 2022. This four day event will take place at Eastern Michigan University’s Student Center.
URL:https://kalamazooacs.org/events/central-regional-meeting-of-the-american-chemical-society/
LOCATION:Eastern Michigan University’s Student Center\, 900 Oakwood St.\, ypsilanit\, Michigan\, 48197\, United States
END:VEVENT
END:VCALENDAR