BEGIN:VCALENDAR
VERSION:2.0
PRODID:-//Kalamazoo Section of the American Chemical Society - ECPv6.15.20//NONSGML v1.0//EN
CALSCALE:GREGORIAN
METHOD:PUBLISH
X-WR-CALNAME:Kalamazoo Section of the American Chemical Society
X-ORIGINAL-URL:https://kalamazooacs.org
X-WR-CALDESC:Events for Kalamazoo Section of the American Chemical Society
REFRESH-INTERVAL;VALUE=DURATION:PT1H
X-Robots-Tag:noindex
X-PUBLISHED-TTL:PT1H
BEGIN:VTIMEZONE
TZID:UTC
BEGIN:STANDARD
TZOFFSETFROM:+0000
TZOFFSETTO:+0000
TZNAME:UTC
DTSTART:20200101T000000
END:STANDARD
END:VTIMEZONE
BEGIN:VEVENT
DTSTART;TZID=UTC:20210816T180000
DTEND;TZID=UTC:20210816T193000
DTSTAMP:20260424T225619
CREATED:20210308T232904Z
LAST-MODIFIED:20210308T232908Z
UID:20348-1629136800-1629142200@kalamazooacs.org
SUMMARY:August 2021 - Executive Meeting
DESCRIPTION:Executive Committee Meeting
URL:https://kalamazooacs.org/events/august-2021-executive-meeting/
END:VEVENT
BEGIN:VEVENT
DTSTART;TZID=UTC:20210621T180000
DTEND;TZID=UTC:20210621T193000
DTSTAMP:20260424T225619
CREATED:20210308T232559Z
LAST-MODIFIED:20210308T232603Z
UID:20344-1624298400-1624303800@kalamazooacs.org
SUMMARY:June 2021 - Executive Meeting
DESCRIPTION:Executive Committee Meeting
URL:https://kalamazooacs.org/events/june-2021-executive-meeting/
END:VEVENT
BEGIN:VEVENT
DTSTART;TZID=UTC:20210606T080000
DTEND;TZID=UTC:20210609T170000
DTSTAMP:20260424T225619
CREATED:20210308T232743Z
LAST-MODIFIED:20210328T220503Z
UID:20346-1622966400-1623258000@kalamazooacs.org
SUMMARY:2021 Great Lakes Regional Meeting
DESCRIPTION:GLRM2021.org
URL:https://kalamazooacs.org/events/2021-great-lakes-regional-meeting/
LOCATION:Zoom
END:VEVENT
BEGIN:VEVENT
DTSTART;TZID=UTC:20210517T190000
DTEND;TZID=UTC:20210517T203000
DTSTAMP:20260424T225619
CREATED:20210308T232048Z
LAST-MODIFIED:20210308T232223Z
UID:20335-1621278000-1621283400@kalamazooacs.org
SUMMARY:2021 Recognition and Awards Ceremony
DESCRIPTION:Date\, Time TBD – Recognition and Awards for Students\, Teachers\, and Members
URL:https://kalamazooacs.org/events/recognition-and-awards-ceremony/
LOCATION:Zoom
END:VEVENT
BEGIN:VEVENT
DTSTART;TZID=UTC:20210517T180000
DTEND;TZID=UTC:20210517T193000
DTSTAMP:20260424T225619
CREATED:20210308T232358Z
LAST-MODIFIED:20210308T232425Z
UID:20341-1621274400-1621279800@kalamazooacs.org
SUMMARY:May 2021 - KACS Executive Meeting
DESCRIPTION:Executive Committee Meeting
URL:https://kalamazooacs.org/events/may-2021-kacs-executive-meeting/
END:VEVENT
BEGIN:VEVENT
DTSTART;TZID=UTC:20210426T183000
DTEND;TZID=UTC:20210426T193000
DTSTAMP:20260424T225619
CREATED:20210308T231701Z
LAST-MODIFIED:20210308T231705Z
UID:20331-1619461800-1619465400@kalamazooacs.org
SUMMARY:April 2021 - KACS Seminar
DESCRIPTION:Date\, Time\, Speaker\, Topic TBD
URL:https://kalamazooacs.org/events/april-2021-kacs-seminar/
END:VEVENT
BEGIN:VEVENT
DTSTART;TZID=UTC:20210425T110000
DTEND;TZID=UTC:20210425T150000
DTSTAMP:20260424T225619
CREATED:20210328T191111Z
LAST-MODIFIED:20210328T191114Z
UID:20439-1619348400-1619362800@kalamazooacs.org
SUMMARY:Portage Green-a-Thon
DESCRIPTION:11 a.m.—3 p.m. \n\n\n\nEnvironmental Awareness & Citizen Opportunities\n\n\n\nThe Green-A-Thon event is a way to raise awareness of environmental issues that affect the citizens of Portage and to provide opportunities to become more ecologically friendly. Providing a forum for such opportunities is a critical step to ensuring a sense of social responsibility in participating and encouraging “green” behavior. \n\n\n\nEarth Day Oriented Exhibits & Games\n\n\n\nThis family-friendly Earth Day festival is open to all and includes exhibits\, games and giveaways such as tree seedlings. Numerous local vendors and organizations will be present. \n\n\n\nExhibitor Booths & Tables\n\n\n\nOrganizations and businesses are invited to participate in this event as a way to promote themselves as environmentally conscious\, provide Portage residents with an opportunity to be friendlier to the environment and educate people on the importance of “going green.” There is no charge to participate or attend. A limited number of tables and chairs are available for use\, though exhibitors are encouraged to bring their own. \n\n\n\nContact Information & Sign-Up Form\n\n\n\nFor further information or questions\, please contact Erica Eklov\, staff liaison\, at 269-329-4511 or at cityclerk@portagemi.gov.  \n\n\n\nPlease complete the online sign-up form if you are interested in setting up a booth.
URL:https://kalamazooacs.org/events/portage-green-a-thon/
END:VEVENT
BEGIN:VEVENT
DTSTART;TZID=UTC:20210419T180000
DTEND;TZID=UTC:20210419T193000
DTSTAMP:20260424T225619
CREATED:20210308T231538Z
LAST-MODIFIED:20210328T190822Z
UID:20329-1618855200-1618860600@kalamazooacs.org
SUMMARY:April 2021 - KACS Executive Meeting
DESCRIPTION:Executive Committee Meeting
URL:https://kalamazooacs.org/events/april-2021-kacs-executive-meeting/
END:VEVENT
BEGIN:VEVENT
DTSTART;TZID=UTC:20210419T160000
DTEND;TZID=UTC:20210419T170000
DTSTAMP:20260424T225619
CREATED:20210328T190737Z
LAST-MODIFIED:20210328T190741Z
UID:20437-1618848000-1618851600@kalamazooacs.org
SUMMARY:Seminar (Virtual)
DESCRIPTION:Dr. Vasileios AnagnostopoulosUniversity of Central FloridaTitle:  “Geochemical controls of manganese oxides in the mobility of anionic contaminants in the environment:  the case of iodine and technetium.”Zoom link: https://us02web.zoom.us/j/81359137631? pwd=ZUFJL0FiYXYyVXpFRWUzSm1IaHBCZz09(ID: 813 5913 7631;passcode: 9pG5q6)
URL:https://kalamazooacs.org/events/seminar-virtual/
END:VEVENT
BEGIN:VEVENT
DTSTART;TZID=UTC:20210418T080000
DTEND;TZID=UTC:20210424T170000
DTSTAMP:20260424T225619
CREATED:20210328T190557Z
LAST-MODIFIED:20210328T190605Z
UID:20434-1618732800-1619283600@kalamazooacs.org
SUMMARY:Chemists Celebrate Earth Week (Virtual)
DESCRIPTION:Topic: “Reducing our Footprint with Chemistry”  Celebrating Chemistry hands-on activity publications are available from Lydia E.M. Hines.
URL:https://kalamazooacs.org/events/chemists-celebrate-earth-week-virtual/
END:VEVENT
BEGIN:VEVENT
DTSTART;TZID=UTC:20210418T080000
DTEND;TZID=UTC:20210424T170000
DTSTAMP:20260424T225619
CREATED:20210308T231816Z
LAST-MODIFIED:20210308T231820Z
UID:20333-1618732800-1619283600@kalamazooacs.org
SUMMARY:Chemists Celebrate Virtual Earth Week
DESCRIPTION:
URL:https://kalamazooacs.org/events/chemists-celebrate-virtual-earth-week/
END:VEVENT
BEGIN:VEVENT
DTSTART;TZID=UTC:20210405T080000
DTEND;TZID=UTC:20210416T170000
DTSTAMP:20260424T225619
CREATED:20210328T190359Z
LAST-MODIFIED:20210328T215115Z
UID:20432-1617609600-1618592400@kalamazooacs.org
SUMMARY:Spring ACS National Meeting (Virtual)
DESCRIPTION:Theme: Macromolecular Chemistry: The Second Century \n\n\n\nRegistration for the Spring National ACS meeting\, with the theme Macromolecular Chemistry: The Second  Century is now open. Complete information can be found at www.acs.org/content/acs/en/meetings/acs meetings.html.
URL:https://kalamazooacs.org/events/spring-acs-national-meeting-virtual/
END:VEVENT
BEGIN:VEVENT
DTSTART;TZID=UTC:20210401T000000
DTEND;TZID=UTC:20210401T235959
DTSTAMP:20260424T225619
CREATED:20210328T190041Z
LAST-MODIFIED:20210328T190044Z
UID:20429-1617235200-1617321599@kalamazooacs.org
SUMMARY:Scholarship Deadline - Rubber Division
DESCRIPTION:Deadline for applications for Rubber Division Scholarships
URL:https://kalamazooacs.org/events/scholarship-deadline-rubber-division/
END:VEVENT
BEGIN:VEVENT
DTSTART;TZID=UTC:20210322T160000
DTEND;TZID=UTC:20210322T170000
DTSTAMP:20260424T225619
CREATED:20210328T185836Z
LAST-MODIFIED:20210328T185838Z
UID:20427-1616428800-1616432400@kalamazooacs.org
SUMMARY:Seminar
DESCRIPTION:Dr. James Salvador\, General Motors Title: “Sulfide Solid State Electrolytes for  Protected Li-metal Anode Batteries.” Zoom link: https://us02web.zoom.us/j/82939294138? pwd=Q0VvOUN0VDFQVmMxL1JQSjFtMVk4UT09 (ID: 829 3929 4138; passcode: ks9Er8) 
URL:https://kalamazooacs.org/events/seminar/
END:VEVENT
BEGIN:VEVENT
DTSTART;TZID=UTC:20210315T180000
DTEND;TZID=UTC:20210315T193000
DTSTAMP:20260424T225619
CREATED:20210308T230826Z
LAST-MODIFIED:20210308T231210Z
UID:20320-1615831200-1615836600@kalamazooacs.org
SUMMARY:March 2021 - KACS Executive Meeting
DESCRIPTION:Executive Committee Meeting
URL:https://kalamazooacs.org/events/kacs-executive-meeting-3/
END:VEVENT
BEGIN:VEVENT
DTSTART;TZID=UTC:20210315T160000
DTEND;TZID=UTC:20210315T170000
DTSTAMP:20260424T225619
CREATED:20210308T231421Z
LAST-MODIFIED:20210328T185644Z
UID:20327-1615824000-1615827600@kalamazooacs.org
SUMMARY:March 2021 - KACS Seminar
DESCRIPTION:Dr. Kayunta Johnson-WintersU of Texas at Arlington \n\n\n\nTitle TBD. Zoom link:  https://us02web.zoom.us/j/88426148109?pwd=VWE1NldZQm43TWY3UzhhZGZHZ21qdz09 (ID: 884  2614 8109; passcode gfNC43)
URL:https://kalamazooacs.org/events/march-2021-kacs-seminar/
END:VEVENT
BEGIN:VEVENT
DTSTART;TZID=UTC:20210222T183000
DTEND;TZID=UTC:20210222T193000
DTSTAMP:20260424T225619
CREATED:20210308T230615Z
LAST-MODIFIED:20210308T231116Z
UID:20317-1614018600-1614022200@kalamazooacs.org
SUMMARY:February 2021 - KACS Seminar
DESCRIPTION:Speaker: H.N. Cheng\, Ph.D.  \n\n\n\n\n\nSustainability and Green Chemistry\n\n\n\nAbstract \n\n\n\nWith increasing public awareness of climate change\, environmental pollution\, and earth’s declining resources\, sustainability and green chemistry have become hot topics these days. In 2015\, the United Nations adopted 17 sustainable development goals (SDGs) to be achieved in 2030. As polymers are being used all around us\, they play a major role in the achievement of these goals. In this talk\, the speaker will provide an overview of the sustainability initiatives at American Chemical Society (ACS) and his platform as ACS President in 2021. He will also cover selected polymer research and development (R&D) areas that are related to sustainability and green polymer chemistry. The following examples will be shown: 1) to use natural renewable raw materials (e.g.\, polysaccharides\, proteins\, and triglycerides) as source materials for new chemistry and products; 2) to exploit biocatalysts (e.g.\, enzymes and micro-organisms) for chemical and polymer conversions; 3) to apply green chemistry concepts to conversion and processing; and 4) to develop green methodologies to promote the development of green products. In view of the relevance of sustainability and green polymer chemistry to our society\, we can expect to see continued R&D and commercial activities relating to this field in the future.  \n\n\n\nBiography \n\n\n\n\n\n\n\n\n\n\n\nH. N. Cheng is the ACS President in 2021. He has been active at ACS for many years and has served in many leadership roles at local\, division\, and national levels. He obtained his B.S. from UCLA and his Ph.D. from the University of Illinois at Urbana-Champaign. He currently works at USDA Southern Regional Research Center in New Orleans. Over the years\, he has been involved with the use of agro-based materials\, biocatalysis\, green processing\, and green methodology. He has also contributed to polymerization theory and polymer NMR. He has authored or co-authored 280 papers and 26 patent publications. He has organized 43 symposia at national meetings since 2000 and edited 21 books. He was selected as a Fellow of the ACS (2009)\, a Fellow of the ACS Polymer Chemistry Division (2010)\, and a Fellow of the ACS Agricultural and Food Chemistry Division (2018)\, among other recognition and awards.
URL:https://kalamazooacs.org/events/kacs-seminar/
END:VEVENT
BEGIN:VEVENT
DTSTART;TZID=UTC:20210215T180000
DTEND;TZID=UTC:20210215T193000
DTSTAMP:20260424T225619
CREATED:20210308T223651Z
LAST-MODIFIED:20210308T231052Z
UID:20312-1613412000-1613417400@kalamazooacs.org
SUMMARY:February 2021 - KACS Executive Meeting
DESCRIPTION:Executive Committee Meeting \n\n\n\nKACS Annual Report Due February 13\, 2021
URL:https://kalamazooacs.org/events/kacs-executive-meeting-2/
LOCATION:Zoom
END:VEVENT
BEGIN:VEVENT
DTSTART;TZID=UTC:20210208T180000
DTEND;TZID=UTC:20210208T180000
DTSTAMP:20260424T225619
CREATED:20201124T220239Z
LAST-MODIFIED:20210308T234624Z
UID:19827-1612807200-1612807200@kalamazooacs.org
SUMMARY:KACS and Latitude 42 Supporting Project SEED
DESCRIPTION:We are still a little hung over from last year’s celebration of the International Year of the Periodic Table (IYPT) but that won’t stop us from continuing our partnership with breweries to benefit Project SEED\, which provides summer research internships for disadvantaged high school students. On March 10\, we will feature a discussion by local master brewer Mike Babb of some locally produced beer styles and the brewing methods used to prepare them. We will also say a few words (short\, we promise) about Project SEED and ways that you can help us support and grow our local section program. Food and beer samples (for the discussion) from the Latitude 42 menu will be provided. There is no cost to KACS members (and one guest) to attend but space is limited and an accurate headcount is important for our preparation. RSVP your name and guest’s name\, if applicable\, by March 1 to Doug Williams. We even have some leftover prizes from the IYPT celebrations to give away or raffle off.
URL:https://kalamazooacs.org/events/kacs-and-latitude-42-supporting-project-seed/
LOCATION:Latitude 42 – Oshtemo\, Oshtemo Location 6101 W Main St\, Kalamazoo\, MI\, 49009\, United States
ORGANIZER;CN="Doug Williams":MAILTO:alternatecouncilor@kalamazooacs.org
END:VEVENT
BEGIN:VEVENT
DTSTART;TZID=UTC:20210126T183000
DTEND;TZID=UTC:20210126T200000
DTSTAMP:20260424T225620
CREATED:20210308T215200Z
LAST-MODIFIED:20210308T231005Z
UID:20310-1611685800-1611691200@kalamazooacs.org
SUMMARY:January 2021 - KACS Executive Meeting
DESCRIPTION:Monthly executive meeting
URL:https://kalamazooacs.org/events/kacs-executive-meeting/
ATTACH;FMTTYPE=image/png:https://kalamazooacs.org/wp-content/uploads/2020/11/kacs-logo-blue.png
END:VEVENT
END:VCALENDAR