BEGIN:VCALENDAR
VERSION:2.0
PRODID:-//Kalamazoo Section of the American Chemical Society - ECPv6.15.20//NONSGML v1.0//EN
CALSCALE:GREGORIAN
METHOD:PUBLISH
X-ORIGINAL-URL:https://kalamazooacs.org
X-WR-CALDESC:Events for Kalamazoo Section of the American Chemical Society
REFRESH-INTERVAL;VALUE=DURATION:PT1H
X-Robots-Tag:noindex
X-PUBLISHED-TTL:PT1H
BEGIN:VTIMEZONE
TZID:America/Detroit
BEGIN:DAYLIGHT
TZOFFSETFROM:-0500
TZOFFSETTO:-0400
TZNAME:EDT
DTSTART:20230312T070000
END:DAYLIGHT
BEGIN:STANDARD
TZOFFSETFROM:-0400
TZOFFSETTO:-0500
TZNAME:EST
DTSTART:20231105T060000
END:STANDARD
BEGIN:DAYLIGHT
TZOFFSETFROM:-0500
TZOFFSETTO:-0400
TZNAME:EDT
DTSTART:20240310T070000
END:DAYLIGHT
BEGIN:STANDARD
TZOFFSETFROM:-0400
TZOFFSETTO:-0500
TZNAME:EST
DTSTART:20241103T060000
END:STANDARD
BEGIN:DAYLIGHT
TZOFFSETFROM:-0500
TZOFFSETTO:-0400
TZNAME:EDT
DTSTART:20250309T070000
END:DAYLIGHT
BEGIN:STANDARD
TZOFFSETFROM:-0400
TZOFFSETTO:-0500
TZNAME:EST
DTSTART:20251102T060000
END:STANDARD
BEGIN:DAYLIGHT
TZOFFSETFROM:-0500
TZOFFSETTO:-0400
TZNAME:EDT
DTSTART:20260308T070000
END:DAYLIGHT
BEGIN:STANDARD
TZOFFSETFROM:-0400
TZOFFSETTO:-0500
TZNAME:EST
DTSTART:20261101T060000
END:STANDARD
END:VTIMEZONE
BEGIN:VEVENT
DTSTART;TZID=America/Detroit:20251217T190000
DTEND;TZID=America/Detroit:20251217T203000
DTSTAMP:20260424T110902
CREATED:20250716T170428Z
LAST-MODIFIED:20250716T170428Z
UID:22184-1765998000-1766003400@kalamazooacs.org
SUMMARY:KACS EC Meeting
DESCRIPTION:Contact chair@kalamazooacs.org for information and an invitation
URL:https://kalamazooacs.org/events/kacs-ec-meeting-37/
END:VEVENT
BEGIN:VEVENT
DTSTART;TZID=America/Detroit:20251119T190000
DTEND;TZID=America/Detroit:20251119T203000
DTSTAMP:20260424T110902
CREATED:20250716T170324Z
LAST-MODIFIED:20250716T170324Z
UID:22182-1763578800-1763584200@kalamazooacs.org
SUMMARY:KACS EC Meeting
DESCRIPTION:Contact chair@kalamazooacs.org for information and an invitation
URL:https://kalamazooacs.org/events/kacs-ec-meeting-36/
END:VEVENT
BEGIN:VEVENT
DTSTART;TZID=America/Detroit:20251106T170000
DTEND;TZID=America/Detroit:20251106T210000
DTSTAMP:20260424T110902
CREATED:20251003T183205Z
LAST-MODIFIED:20251023T143453Z
UID:22228-1762448400-1762462800@kalamazooacs.org
SUMMARY:Bell's Recycle a Poster
DESCRIPTION:Seminar: Advancing Solutions for Reliable Access to Cyanotoxins and Cyanopeptides in Environmental and Biomedical Research \n\n\n\nProfessor Jeremy J. Kodak \n\n\n\nDon’t miss this opportunity to mingle and network! \n\n\n\nAll local scientists\, including undergraduate and graduate students are encouraged to participate.  \n\n\n\nNewly prepared or “recycled” posters are welcome.  \n\n\n\nStudent presenters who submit their abstract (100-200 words) by Sunday\, Nov 3\, 2025\, can win a $50 cash prize! (3 student presenters will receive a prize) \n\n\n\nTo reserve an easel\, presenters should email the following information to symposium@kalamazooacs.org by Sunday\, Nov 3\, 2025. \n\n\n\n•               the poster title \n\n\n\n•               author list with the presenter underlined and an asterisk (*) for the lead PI \n\n\n\n•               institution information \n\n\n\n•               an abstract to enter the prize drawing \n\n\n\nEvent Schedule \n\n\n\n5-7 pm                   Poster Setup\, Registration\, Reception with FREE Refreshments (Time to mingle) \n\n\n\n6:45 pm               KACS Announcements \n\n\n\n7:00 pm               Keynote Speaker: Dr. Kodanko from Wayne State University \n\n\n\n8-9:00 pm          Poster Session\, Network with Scientists and Speaker\, Award of THREE $50 Cash Prizes \n\n\n\nThis event is sponsored by a generous grant from Zoetis (https://www.zoetis.com) \n\n\n\n \n\n\n\nWayne State University
URL:https://kalamazooacs.org/events/bells-recycle-a-poster/
LOCATION:Bell’s Brewery\, 355 E Kalamazoo Ave.\, Kalamazoo\, Michigan\, 49007\, United States
END:VEVENT
BEGIN:VEVENT
DTSTART;TZID=America/Detroit:20251018T120000
DTEND;TZID=America/Detroit:20251018T160000
DTSTAMP:20260424T110902
CREATED:20250716T171127Z
LAST-MODIFIED:20250716T171127Z
UID:22186-1760788800-1760803200@kalamazooacs.org
SUMMARY:Chemistry Day at the Museum
DESCRIPTION:Theme: Spices: The Hidden Life of Spices \n\n\n\nContact Hershel Jude and/or Carol Guerrero to volunteer.
URL:https://kalamazooacs.org/events/chemistry-day-at-the-museum/
END:VEVENT
BEGIN:VEVENT
DTSTART;TZID=America/Detroit:20251015T190000
DTEND;TZID=America/Detroit:20251015T203000
DTSTAMP:20260424T110902
CREATED:20250716T170218Z
LAST-MODIFIED:20250807T145044Z
UID:22180-1760554800-1760560200@kalamazooacs.org
SUMMARY:KACS EC Meeting
DESCRIPTION:Contact chair@kalamazooacs.org for information and an invitation
URL:https://kalamazooacs.org/events/kacs-ec-meeting-35/
END:VEVENT
BEGIN:VEVENT
DTSTART;TZID=America/Detroit:20250917T190000
DTEND;TZID=America/Detroit:20250917T203000
DTSTAMP:20260424T110902
CREATED:20250716T170016Z
LAST-MODIFIED:20250716T170016Z
UID:22178-1758135600-1758141000@kalamazooacs.org
SUMMARY:KACS EC Meeting
DESCRIPTION:Contact chair@kalamazooacs.org for information and an invitation
URL:https://kalamazooacs.org/events/kacs-ec-meeting-34/
END:VEVENT
BEGIN:VEVENT
DTSTART;TZID=America/Detroit:20250822T090000
DTEND;TZID=America/Detroit:20250822T131500
DTSTAMP:20260424T110902
CREATED:20250807T145229Z
LAST-MODIFIED:20250807T145229Z
UID:22204-1755853200-1755868500@kalamazooacs.org
SUMMARY:Project SEED Poster Presentations
DESCRIPTION:Project SEED Participants’ Poster Presentations\, Kalamazoo College Upjohn Library (150 Thompson St.)
URL:https://kalamazooacs.org/events/project-seed-poster-presentations/
END:VEVENT
BEGIN:VEVENT
DTSTART;TZID=America/Detroit:20250820T190000
DTEND;TZID=America/Detroit:20250820T200000
DTSTAMP:20260424T110902
CREATED:20250407T132134Z
LAST-MODIFIED:20250407T132134Z
UID:22128-1755716400-1755720000@kalamazooacs.org
SUMMARY:KACS EC Meeting
DESCRIPTION:Contact chair@kalamazooacs.org for information and an invitation
URL:https://kalamazooacs.org/events/kacs-ec-meeting-33/
END:VEVENT
BEGIN:VEVENT
DTSTART;TZID=America/Detroit:20250817T080000
DTEND;TZID=America/Detroit:20250821T200000
DTSTAMP:20260424T110902
CREATED:20250716T165642Z
LAST-MODIFIED:20250716T165642Z
UID:22176-1755417600-1755806400@kalamazooacs.org
SUMMARY:Fall ACS National Meeting
DESCRIPTION:Location: Washington DC \n\n\n\nTheme: Innovations in Chemistry
URL:https://kalamazooacs.org/events/fall-acs-national-meeting-2/
END:VEVENT
BEGIN:VEVENT
DTSTART;TZID=America/Detroit:20250618T190000
DTEND;TZID=America/Detroit:20250618T200000
DTSTAMP:20260424T110902
CREATED:20250407T132034Z
LAST-MODIFIED:20250407T132034Z
UID:22126-1750273200-1750276800@kalamazooacs.org
SUMMARY:KACS EC Meeting
DESCRIPTION:Contact chair@kalamazooacs.org for information and an invitation
URL:https://kalamazooacs.org/events/kacs-ec-meeting-32/
END:VEVENT
BEGIN:VEVENT
DTSTART;TZID=America/Detroit:20250604T080000
DTEND;TZID=America/Detroit:20250606T170000
DTSTAMP:20260424T110902
CREATED:20240708T163637Z
LAST-MODIFIED:20250407T144954Z
UID:21877-1749024000-1749229200@kalamazooacs.org
SUMMARY:Great Lakes Regional ACS Meeting
DESCRIPTION:Appleton Wisconsin \n\n\n\nWebsite: https://greatlakesregion-acs.org/event-welcome/glrm-2025 \n\n\n\nRegistration now open
URL:https://kalamazooacs.org/events/great-lakes-regional-acs-meeting/
END:VEVENT
BEGIN:VEVENT
DTSTART;TZID=America/Detroit:20250521T190000
DTEND;TZID=America/Detroit:20250521T200000
DTSTAMP:20260424T110902
CREATED:20250407T131838Z
LAST-MODIFIED:20250407T131838Z
UID:22123-1747854000-1747857600@kalamazooacs.org
SUMMARY:KACS EC Meeting
DESCRIPTION:Contact chair@kalamazooacs.org for information and an invitation
URL:https://kalamazooacs.org/events/kacs-ec-meeting-31/
END:VEVENT
BEGIN:VEVENT
DTSTART;TZID=America/Detroit:20250421T080000
DTEND;TZID=America/Detroit:20250426T170000
DTSTAMP:20260424T110902
CREATED:20250407T132426Z
LAST-MODIFIED:20250407T132426Z
UID:22130-1745222400-1745686800@kalamazooacs.org
SUMMARY:Chemist Celebrates Earth Week
DESCRIPTION:CCEW “Glaciers: Hot Topic\, Cool Chemistry!”Thanks to Carol Guerrero who offered to take on leadership ofCCEW\, as reported in the March issue of the newsletter. visit www.acs.org/ccew for program details.Resources are available by contacting Carol Guerrero(cguerrero@kvcc.edu)
URL:https://kalamazooacs.org/events/chemist-celebrates-earth-week/
END:VEVENT
BEGIN:VEVENT
DTSTART;TZID=America/Detroit:20250416T190000
DTEND;TZID=America/Detroit:20250416T200000
DTSTAMP:20260424T110902
CREATED:20250407T131753Z
LAST-MODIFIED:20250407T131920Z
UID:22121-1744830000-1744833600@kalamazooacs.org
SUMMARY:KACS EC Meeting
DESCRIPTION:Contact chair@kalamazooacs.org for information and an invitation
URL:https://kalamazooacs.org/events/kacs-ec-meeting-30/
END:VEVENT
BEGIN:VEVENT
DTSTART;TZID=America/Detroit:20250407T150000
DTEND;TZID=America/Detroit:20250407T163000
DTSTAMP:20260424T110902
CREATED:20250407T131620Z
LAST-MODIFIED:20250407T131620Z
UID:22119-1744038000-1744043400@kalamazooacs.org
SUMMARY:Seminar - Dr. Michal Marszewski
DESCRIPTION:Seminar presentation with Dr. Michal Marszewski (University of Toledo)\, WMUChemistry Building Rm. 1260. [Dr. Marszewski has been engaged in cutting-edge research of nano-porousmaterials for energy and environmental applications since he was a master’s student.]
URL:https://kalamazooacs.org/events/seminar-dr-michal-marszewski/
END:VEVENT
BEGIN:VEVENT
DTSTART;TZID=America/Detroit:20241216T190000
DTEND;TZID=America/Detroit:20241216T203000
DTSTAMP:20260424T110902
CREATED:20240708T204137Z
LAST-MODIFIED:20240708T204139Z
UID:21894-1734375600-1734381000@kalamazooacs.org
SUMMARY:KACS EC Meeting
DESCRIPTION:Contact chair@kalamazooacs.org for information and an invitation
URL:https://kalamazooacs.org/events/kacs-ec-meeting-29/
END:VEVENT
BEGIN:VEVENT
DTSTART;TZID=America/Detroit:20241118T190000
DTEND;TZID=America/Detroit:20241118T203000
DTSTAMP:20260424T110902
CREATED:20240708T204038Z
LAST-MODIFIED:20240708T204040Z
UID:21892-1731956400-1731961800@kalamazooacs.org
SUMMARY:KACS EC Meeting
DESCRIPTION:Contact chair@kalamazooacs.org for information and an invitation
URL:https://kalamazooacs.org/events/kacs-ec-meeting-28/
END:VEVENT
BEGIN:VEVENT
DTSTART;TZID=America/Detroit:20241105T170000
DTEND;TZID=America/Detroit:20241105T210000
DTSTAMP:20260424T110902
CREATED:20240805T183450Z
LAST-MODIFIED:20240805T183450Z
UID:21898-1730826000-1730840400@kalamazooacs.org
SUMMARY:Recycle a Poster - Bell's Event
DESCRIPTION:Bell’s Eccentric Café
URL:https://kalamazooacs.org/events/recycle-a-poster-bells-event/
END:VEVENT
BEGIN:VEVENT
DTSTART;TZID=America/Detroit:20241021T190000
DTEND;TZID=America/Detroit:20241021T203000
DTSTAMP:20260424T110902
CREATED:20240708T203919Z
LAST-MODIFIED:20240708T203921Z
UID:21890-1729537200-1729542600@kalamazooacs.org
SUMMARY:KACS EC Meeting
DESCRIPTION:Contact chair@kalamazooacs.org for information and an invitation
URL:https://kalamazooacs.org/events/kacs-ec-meeting-27/
END:VEVENT
BEGIN:VEVENT
DTSTART;TZID=America/Detroit:20241020T000000
DTEND;TZID=America/Detroit:20241026T235959
DTSTAMP:20260424T110902
CREATED:20240708T203633Z
LAST-MODIFIED:20240708T203747Z
UID:21887-1729382400-1729987199@kalamazooacs.org
SUMMARY:National Chemistry Week
DESCRIPTION:Topic: Photography and Imaging \n\n\n\nTheme: Picture Perfect Chemistry
URL:https://kalamazooacs.org/events/national-chemistry-week/
END:VEVENT
BEGIN:VEVENT
DTSTART;TZID=America/Detroit:20241019T120000
DTEND;TZID=America/Detroit:20241019T160000
DTSTAMP:20260424T110902
CREATED:20240708T203100Z
LAST-MODIFIED:20240708T203525Z
UID:21883-1729339200-1729353600@kalamazooacs.org
SUMMARY:Chemistry Day at the Kalamazoo Valley Museum
DESCRIPTION:Chemistry Day at the Kalamazoo Valley Museum will be held on October 19\, 2024.  \n\n\n\nVolunteers Need: please email Hershel Jude. \n\n\n\nTopic of 2024 National Chemistry Week: Photography and Imaging \n\n\n\nTheme: Picture Perfect Chemistry
URL:https://kalamazooacs.org/events/chemistry-day-at-the-kalamazoo-valley-museum-3/
END:VEVENT
BEGIN:VEVENT
DTSTART;TZID=America/Detroit:20241007T180000
DTEND;TZID=America/Detroit:20241007T200000
DTSTAMP:20260424T110902
CREATED:20240708T163110Z
LAST-MODIFIED:20240708T163113Z
UID:21875-1728324000-1728331200@kalamazooacs.org
SUMMARY:Speed Networking - Virtual Event
DESCRIPTION:
URL:https://kalamazooacs.org/events/speed-networking-virtual-event/
END:VEVENT
BEGIN:VEVENT
DTSTART;TZID=America/Detroit:20240917T000000
DTEND;TZID=America/Detroit:20240917T235959
DTSTAMP:20260424T110902
CREATED:20240708T202836Z
LAST-MODIFIED:20240708T202838Z
UID:21881-1726531200-1726617599@kalamazooacs.org
SUMMARY:Seminar: Dr. M.V. Orna
DESCRIPTION:Title: How Color Changed the World
URL:https://kalamazooacs.org/events/seminar-dr-m-v-orna/
END:VEVENT
BEGIN:VEVENT
DTSTART;TZID=America/Detroit:20240916T190000
DTEND;TZID=America/Detroit:20240916T203000
DTSTAMP:20260424T110902
CREATED:20240318T220157Z
LAST-MODIFIED:20240318T220159Z
UID:21783-1726513200-1726518600@kalamazooacs.org
SUMMARY:KACS EC Meeting
DESCRIPTION:Contact chair@kalamazooacs.org for information and an invitation
URL:https://kalamazooacs.org/events/kacs-ec-meeting-26/
END:VEVENT
BEGIN:VEVENT
DTSTART;TZID=America/Detroit:20240823T000000
DTEND;TZID=America/Detroit:20240823T235959
DTSTAMP:20260424T110902
CREATED:20240805T183206Z
LAST-MODIFIED:20240805T183206Z
UID:21896-1724371200-1724457599@kalamazooacs.org
SUMMARY:Project SEED Poster Session
DESCRIPTION:Location: Kalamazoo College  \n\n\n\nAdditional information to be sent by e-mail\, Face Book\, or LinkedIn
URL:https://kalamazooacs.org/events/project-seed-poster-session/
END:VEVENT
BEGIN:VEVENT
DTSTART;TZID=America/Detroit:20240819T190000
DTEND;TZID=America/Detroit:20240819T203000
DTSTAMP:20260424T110902
CREATED:20240318T215940Z
LAST-MODIFIED:20240318T220033Z
UID:21780-1724094000-1724099400@kalamazooacs.org
SUMMARY:KACS EC Meeting
DESCRIPTION:Contact chair@kalamazooacs.org for information and an invitation
URL:https://kalamazooacs.org/events/kacs-ec-meeting-25/
END:VEVENT
BEGIN:VEVENT
DTSTART;TZID=America/Detroit:20240818T000000
DTEND;TZID=America/Detroit:20240822T235959
DTSTAMP:20260424T110902
CREATED:20240708T202646Z
LAST-MODIFIED:20240708T202648Z
UID:21879-1723939200-1724371199@kalamazooacs.org
SUMMARY:Fall ACS National Meeting
DESCRIPTION:“Elevating Chemistry” \n\n\n\nLocation: Denver Colorado
URL:https://kalamazooacs.org/events/fall-acs-national-meeting/
END:VEVENT
BEGIN:VEVENT
DTSTART;TZID=America/Detroit:20240617T190000
DTEND;TZID=America/Detroit:20240617T203000
DTSTAMP:20260424T110902
CREATED:20240318T215829Z
LAST-MODIFIED:20240318T215830Z
UID:21778-1718650800-1718656200@kalamazooacs.org
SUMMARY:KACS EC Meeting
DESCRIPTION:Contact chair@kalamazooacs.org for information and an invitation
URL:https://kalamazooacs.org/events/kacs-ec-meeting-24/
END:VEVENT
BEGIN:VEVENT
DTSTART;TZID=America/Detroit:20240603T090000
DTEND;TZID=America/Detroit:20240603T103000
DTSTAMP:20260424T110902
CREATED:20240415T192304Z
LAST-MODIFIED:20240415T192306Z
UID:21836-1717405200-1717410600@kalamazooacs.org
SUMMARY:Kalamazoo Growlers and SW MiSTEM Network STEMEducation Days
DESCRIPTION:
URL:https://kalamazooacs.org/events/kalamazoo-growlers-and-sw-mistem-network-stemeducation-days-2/
END:VEVENT
BEGIN:VEVENT
DTSTART;TZID=America/Detroit:20240529T090000
DTEND;TZID=America/Detroit:20240529T110000
DTSTAMP:20260424T110902
CREATED:20240415T192156Z
LAST-MODIFIED:20240520T225050Z
UID:21833-1716973200-1716980400@kalamazooacs.org
SUMMARY:Kalamazoo Growlers and SW MiSTEM Network STEMEducation Days
DESCRIPTION:
URL:https://kalamazooacs.org/events/kalamazoo-growlers-and-sw-mistem-network-stemeducation-days/
END:VEVENT
END:VCALENDAR